{"text_format":"1","workbook":"xlsx","n_sheets":16,"sheets":["入力","１申請書","１申請書 (2)","【参考】営業種目表","１申請書 (3)","１申請書 (4)","4同意書","7委任状","8電子入札参加申請書","9誓約書","10支店・営業所等一覧表","11印刷機械設備調書","12チェックリスト（法人）","12チェックリスト（個人)","長岡市処理用1","長岡市処理用2"],"not_rendered":{"charts":0,"images":2,"macros":1,"external_links":1,"defined_names":14,"comments":8,"pivot_tables":0},"unopened":[],"bounds":{"document_bytes":16777216,"sheet_cells":100000,"rows_first":2000,"rows_last":500,"rows_between":2000,"halvings":0,"cell_chars":16384,"cell_head_chars":4096},"cells_cut":0,"cells_raw":0,"read":"whole","date_system":"1900"}

{"sheet":"入力","index":0,"n_rows":41,"n_cols":15,"rows_kept":41,"cut":false,"hidden":false,"merged":[[38,14,38,21],[23,3,23,13],[38,3,38,13],[19,3,19,13],[20,3,20,13],[35,3,35,13],[31,3,31,13],[32,3,32,13],[21,3,21,13],[30,3,30,13],[29,3,29,13],[16,3,16,13],[5,3,5,7],[22,3,22,13],[27,3,27,13],[28,3,28,13],[18,3,18,5],[4,3,4,7],[10,3,10,7],[11,3,11,7],[6,3,6,7],[9,3,9,7]]}
["物品入札参加資格審査申請書　入力シート"]
[null,"着色されているセルに入力し、シートNo.１、４，７～12の様式を印刷して提出してください。",null,null,null,null,null,null,null,null,null,null,null,null,"※このシートの提出は不要です"]
[]
["１　申請区分等"]
[null,1,"申請区分","新規",null,null,null,null,"　「新規」を選択してください。"]
[null,2,"登録番号",null,null,null,null,null,"　入力不要"]
[null,2,"申請年月日",null,null,null,null,null,"　（半角数字）「2025/10/14」以降の日付を入力してください。"]
[]
["２　書類に関する連絡先（作成者）",null,null,null,null,null,null,"※書類に関する不明点があった際、こちらにご連絡します。"]
[null,3,"担当者氏名フリガナ",null,null,null,null,null,"　（全角カタカナ）姓と名の間は１文字空けて入力してください。"]
[null,4,"申請担当者氏名",null,null,null,null,null,"　（全角）姓と名の間は１文字空けて入力してください。"]
[null,5,"部署名",null,null,null,null,null,"　（全角）"]
[null,6,"担当者電話番号",null,"-",null,"-",null,"　（半角数字）"]
[]
["３　申請者（本社）の情報"]
[null,7,"郵便番号",null,"-",null,null,null,null,null,null,null,null,null,"　（半角数字）"]
[null,8,"住所",null,null,null,null,null,null,null,null,null,null,null,"　（全角）都道府県名から入力してください。"]
[null,9,"電話番号",null,"-",null,"-",null,null,null,null,null,null,null,"　（半角数字）"]
[null,10,"市内・県内・県外の別",null,null,null,null,null,null,null,null,null,null,null,"　　本社の所在地を長岡市内・新潟県内・新潟県外のいずれかから選択してください。"]
[null,11,"商号又は名称フリガナ",null,null,null,null,null,null,null,null,null,null,null,"　（全角カタカナ）「カブシキガイシャ」など法人格等の入力は不要です。"]
[null,12,"商号又は名称",null,null,null,null,null,null,null,null,null,null,null,"　（全角）法人格等は省略せずに入力してください。　例）株式会社〇〇〇〇"]
[null,13,"代表者職名",null,null,null,null,null,null,null,null,null,null,null,"　（全角）"]
[null,14,"代表者氏名フリガナ",null,null,null,null,null,null,null,null,null,null,null,"　（全角カタカナ）姓と名の間は１文字空けて入力してください。"]
[null,15,"代表者氏名",null,null,null,null,null,null,null,null,null,null,null,"　（全角）姓と名の間は１文字空けて入力してください。"]
[]
["４　支店・営業所等に取引の権限を委任する場合（＊本社直接契約の場合には、記入する必要はありません。）"]
[null,16,"郵便番号",null,"-",null,null,null,null,null,null,null,null,null,"　（半角数字）"]
[null,17,"住所",null,null,null,null,null,null,null,null,null,null,null,"　（全角）都道府県名から入力してください。"]
[null,18,"商号又は名称フリガナ",null,null,null,null,null,null,null,null,null,null,null,"　（全角カタカナ）「カブシキガイシャ」など法人格等の入力は不要です。"]
[null,19,"商号又は名称",null,null,null,null,null,null,null,null,null,null,null,"　（全角）法人格等は省略せずに入力してください。　例）株式会社〇〇〇〇"]
[null,20,"代表者職名",null,null,null,null,null,null,null,null,null,null,null,"　（全角）"]
[null,21,"代表者氏名フリガナ",null,null,null,null,null,null,null,null,null,null,null,"　（全角カタカナ）姓と名の間は１文字空けて入力してください。"]
[null,22,"代表者氏名",null,null,null,null,null,null,null,null,null,null,null,"　（全角）姓と名の間は１文字空けて入力してください。"]
[]
["５　入札指名通知等連絡先（全社が必ず記入してください）"]
[null,23,"担当者氏名"]
[null,24,"電話番号",null,"-",null,"-",null,null,null,null,null,null,null,"　（半角数字）"]
[null,25,"ＦＡＸ番号",null,"-",null,"-",null,null,null,null,null,null,null,"　（半角数字）"]
[null,26,"メールアドレス",null,null,null,null,null,null,null,null,null,null,null,"　（半角英数字）電子入札・指名通知等専用メールアドレスを入力してください。"]
[null,"※原則、入札担当者個人アドレスでの登録は避けてください。"]
[null,"※代表アドレス又は営業部署アドレスの場合は、入札指名通知等を担当者へ確実に引き継いでください。"]

{"sheet":"１申請書","index":1,"n_rows":37,"n_cols":23,"rows_kept":37,"cut":false,"hidden":false,"merged":[[36,3,37,24],[18,1,18,4],[18,5,18,14],[13,1,13,4],[13,5,13,16],[14,5,14,16],[34,3,34,6],[26,7,26,22],[16,5,16,16],[17,1,17,4],[17,5,17,15],[23,7,23,22],[30,1,30,24],[31,7,31,22],[28,7,28,22],[32,7,32,22],[0,0,0,5],[1,0,1,5],[12,1,12,4],[12,5,12,16],[22,3,22,6],[4,0,4,24],[15,1,15,4],[15,5,15,16],[16,1,16,4],[5,18,5,23],[17,18,18,23],[6,1,6,8],[21,1,21,24],[22,7,22,22],[9,1,9,8],[8,1,8,8],[33,7,33,22],[34,7,34,22],[10,1,10,8],[14,1,14,4],[24,7,24,22],[25,7,25,22],[27,7,27,22]]}
["登録番号（６桁）",null,null,null,null,null,null,null,null,null,null,null,null,null,null,null,null,null,null,null,null,null,{"$f":"IF('8電子入札参加申請書'!K22=TRUE,\"電子あり\",\"\")","v":""}]
[{"$f":"入力!D6&\"\"","v":""}]
[]
[null,null,null,null,null,null,null,null,null,null,null,null,null,null,null,"物品入札参加資格審査申請書",{"$f":"IF(入力!D5=\"\",\"(新規・継続）\",\"(\"&入力!D5&\")\")","v":"(新規)"}]
["　令和８・９年度において、長岡市、水道局及び長岡地域土地開発公社（以下「長岡市等」という。）が発注する物品の買入れ、製造の請負（印刷）、借入れ及び長岡市等が行う物品の売払いに係る一般競争入札、指名競争入札及び随意契約の協議に参加する資格の審査を申請します。なお、この申請書及び添付書類のすべての記載事項については、事実と相違ないことを誓約します。"]
[null,null,null,null,null,null,null,null,null,null,null,null,null,null,null,null,null,null,"契約検査課受付印欄"]
[null,{"$f":"IF(入力!D7=\"\",\"令和　　年　　月　　日\",入力!D7)","v":"令和　　年　　月　　日"}]
[]
[null,"長岡市長",null,null,null,null,null,null,null,"様"]
[null,"長岡市水道局長",null,null,null,null,null,null,null,"様"]
[null,"長岡地域土地開発公社理事長",null,null,null,null,null,null,null,"様"]
[]
[null,"郵便番号",null,null,null,{"$f":"IF(入力!D16=\"\",\"\",入力!D16&\"-\"&入力!F16)","v":""}]
[null,"住所",null,null,null,{"$f":"入力!D17&\"\"","v":""}]
[null,"フリガナ",null,null,null,{"$f":"入力!D20&\"\"","v":""}]
[null,"商号又は名称",null,null,null,{"$f":"入力!D21&\"\"","v":""}]
[null,"代表者職名",null,null,null,{"$f":"入力!D22&\"\"","v":""}]
[null,"フリガナ",null,null,null,{"$f":"入力!D23&\"\"","v":""},null,null,null,null,null,null,null,null,null,null,null,null,{"$f":"IF(入力!D19=\"\",\"(市内・県内・県外）\",\"(\"&入力!D19&\")\")","v":"(市内・県内・県外）"}]
[null,"代表者氏名",null,null,null,{"$f":"入力!D24&\"\"","v":""}]
[]
[]
[null,"　支店・営業所等に取引の権限を委任する場合\n（＊本社直接契約の場合には、記入する必要はありません。）"]
[null,null,null,"郵便番号",null,null,null,{"$f":"IF(入力!D27=\"\",\"\",入力!D27&\"-\"&入力!F27)","v":""}]
[null,null,null,"住　　所",null,null,null,{"$f":"入力!D28&\"\"","v":""}]
[null,null,null,"フリガナ",null,null,null,{"$f":"入力!D29&\"\"","v":""}]
[null,null,null,"商号又は名称",null,null,null,{"$f":"入力!D30&\"\"","v":""}]
[null,null,null,"代表者職名",null,null,null,{"$f":"入力!D31&\"\"","v":""}]
[null,null,null,"フリガナ",null,null,null,{"$f":"入力!D32&\"\"","v":""}]
[null,null,null,"代表者氏名",null,null,null,{"$f":"入力!D33&\"\"","v":""}]
[]
[null,"　入札指名通知等連絡先"]
[null,null,null,"担当者",null,null,null,{"$f":"入力!D36&\"\"","v":""}]
[null,null,null,"電話番号",null,null,null,{"$f":"IF(入力!D37=\"\",\"\",入力!D37&\"-\"&入力!F37&\"-\"&入力!H37)","v":""}]
[null,null,null,"ＦＡＸ番号",null,null,null,{"$f":"IF(入力!D38=\"\",\"\",入力!D38&\"-\"&入力!F38&\"-\"&入力!H38)","v":""}]
[null,null,"　","メールアドレス",null,null,null,{"$f":"入力!D39&\"\"","v":""}]
[null,null,null,"※原則、入札担当者個人アドレスでの登録は避けてください。"]
[null,null,null,"※代表アドレス又は営業部署アドレスの場合は、入札指名通知等を担当者へ確実に引き継いでください。"]

{"sheet":"１申請書 (2)","index":2,"n_rows":30,"n_cols":25,"rows_kept":30,"cut":false,"hidden":false,"merged":[[24,1,24,4],[24,6,24,7],[24,9,24,10],[24,11,24,17],[24,18,24,20],[23,11,23,17],[18,18,18,20],[21,1,21,4],[21,6,21,7],[21,9,21,10],[21,11,21,17],[21,18,21,20],[20,1,20,4],[20,6,20,7],[20,9,20,10],[23,18,23,20],[20,18,20,20],[23,1,23,4],[23,6,23,7],[23,9,23,10],[22,18,22,20],[18,1,18,4],[18,6,18,7],[18,9,18,10],[18,11,18,17],[19,1,19,4],[19,6,19,7],[19,9,19,10],[19,11,19,17],[20,11,20,17],[22,1,22,4],[22,6,22,7],[22,9,22,10],[22,11,22,17],[19,18,19,20],[15,9,15,10],[17,1,17,4],[17,6,17,7],[17,9,17,10],[17,18,17,20],[15,1,15,4],[17,11,17,17],[15,11,15,17],[15,18,15,20],[16,1,16,4],[16,6,16,7],[16,9,16,10],[16,11,16,17],[16,18,16,20],[15,6,15,7],[8,1,8,2],[9,1,9,2],[13,5,13,7],[9,4,9,5],[13,8,13,10],[6,18,6,19],[7,18,7,19],[8,18,8,19],[9,18,9,19],[14,6,14,7],[14,9,14,10],[13,18,14,20],[13,11,14,17],[10,1,10,8],[6,4,6,5],[8,4,8,5],[13,1,14,4],[7,1,7,2],[6,1,6,2],[7,4,7,5],[11,1,11,8]]}
[]
[null,null,null,null,null,null,null,null,null,"営業概要"]
[]
[null,null,null,"※法人の場合は、定款に記載のない目的（事業内容）は申請できません。"]
[]
[null,"１　営業区分（希望する区分の数字をチェックすること）＊2つ以上も可"]
[false,null,null,1,"販売",null,null,null,null,null,null,null,null,null,null,null,null,null,"□"]
[false,null,null,2,"製造",null,"（印刷業者が該当）",null,null,null,null,{"$f":"IF(A8=TRUE,\"調書あり\",\"\")","v":""},null,null,null,null,null,null,"□",null,null,null,null,null,{"$f":"IF(A8=TRUE,\"5 印刷機械設備調書を作成してください！\",\"\")","v":""}]
[false,null,null,3,"賃貸",null,null,null,null,null,null,null,null,null,null,null,null,null,"□"]
[false,null,null,4,"売却",null,"（市有車両及び不用品の売払い業者が該当）",null,null,null,null,null,null,null,null,null,null,null,"□",null,null,null,null,null,{"$f":"IF(A10=TRUE,\"古物商許可証の提出が必要です\",\"\")","v":""}]
[null,"↑該当するいずれかをチェック",null,null,null,null,null,null,null,null,null,null,null,null,null,null,null,null,null,"営業許可等の提出（市点検欄）↑　"]
[]
[null,"２　希望する営業種目の分類"]
[null,"順位",null,null,null,"大分類",null,null,"小分類",null,null,"取扱品目",null,null,null,null,null,null,"現在又は履歴事項全部証明書の目的番号"]
[null,null,null,null,null,"コード","品目",null,"コード","品目"]
[null,"第１希望",null,null,null,null,{"$f":"IF(F16=\"\",\"\",VLOOKUP(F16,【参考】営業種目表!$A$3:$B$78,2))","v":""},null,null,{"$f":"_xlfn.IFNA(IF(【参考】営業種目表!H2=\"\",\"\",VLOOKUP(【参考】営業種目表!H2,【参考】営業種目表!$K$3:$L$78,2,FALSE)),\"コードを　選択\")","v":""},null,null,null,null,null,null,null,null,null,null,null,null,null,null,{"$f":"IF(J16=\"コードを　選択\",\"営業種目表から正しいコードを選択してください！\",\"\")","v":""}]
[null,"第２希望",null,null,null,null,{"$f":"IF(F17=\"\",\"\",VLOOKUP(F17,【参考】営業種目表!$A$3:$B$78,2))","v":""},null,null,{"$f":"_xlfn.IFNA(IF(【参考】営業種目表!H3=\"\",\"\",VLOOKUP(【参考】営業種目表!H3,【参考】営業種目表!$K$3:$L$78,2,FALSE)),\"コードを　選択\")","v":""},null,null,null,null,null,null,null,null,null,null,null,null,null,null,{"$f":"IF(J17=\"コードを　選択\",\"営業種目表から正しいコードを選択してください！\",\"\")","v":""}]
[null,"第３希望",null,null,null,null,{"$f":"IF(F18=\"\",\"\",VLOOKUP(F18,【参考】営業種目表!$A$3:$B$78,2))","v":""},null,null,{"$f":"_xlfn.IFNA(IF(【参考】営業種目表!H4=\"\",\"\",VLOOKUP(【参考】営業種目表!H4,【参考】営業種目表!$K$3:$L$78,2,FALSE)),\"コードを　選択\")","v":""},null,null,null,null,null,null,null,null,null,null,null,null,null,null,""]
[null,"第４希望",null,null,null,null,{"$f":"IF(F19=\"\",\"\",VLOOKUP(F19,【参考】営業種目表!$A$3:$B$78,2))","v":""},null,null,{"$f":"_xlfn.IFNA(IF(【参考】営業種目表!H5=\"\",\"\",VLOOKUP(【参考】営業種目表!H5,【参考】営業種目表!$K$3:$L$78,2,FALSE)),\"コードを　選択\")","v":""},null,null,null,null,null,null,null,null,null,null,null,null,null,null,""]
[null,"第５希望",null,null,null,null,{"$f":"IF(F20=\"\",\"\",VLOOKUP(F20,【参考】営業種目表!$A$3:$B$78,2))","v":""},null,null,{"$f":"_xlfn.IFNA(IF(【参考】営業種目表!H6=\"\",\"\",VLOOKUP(【参考】営業種目表!H6,【参考】営業種目表!$K$3:$L$78,2,FALSE)),\"コードを　選択\")","v":""},null,null,null,null,null,null,null,null,null,null,null,null,null,null,""]
[null,"第６希望",null,null,null,null,{"$f":"IF(F21=\"\",\"\",VLOOKUP(F21,【参考】営業種目表!$A$3:$B$78,2))","v":""},null,null,{"$f":"_xlfn.IFNA(IF(【参考】営業種目表!H7=\"\",\"\",VLOOKUP(【参考】営業種目表!H7,【参考】営業種目表!$K$3:$L$78,2,FALSE)),\"コードを　選択\")","v":""},null,null,null,null,null,null,null,null,null,null,null,null,null,null,""]
[null,"第７希望",null,null,null,null,{"$f":"IF(F22=\"\",\"\",VLOOKUP(F22,【参考】営業種目表!$A$3:$B$78,2))","v":""},null,null,{"$f":"_xlfn.IFNA(IF(【参考】営業種目表!H8=\"\",\"\",VLOOKUP(【参考】営業種目表!H8,【参考】営業種目表!$K$3:$L$78,2,FALSE)),\"コードを　選択\")","v":""},null,null,null,null,null,null,null,null,null,null,null,null,null,null,""]
[null,"第８希望",null,null,null,null,{"$f":"IF(F23=\"\",\"\",VLOOKUP(F23,【参考】営業種目表!$A$3:$B$78,2))","v":""},null,null,{"$f":"_xlfn.IFNA(IF(【参考】営業種目表!H9=\"\",\"\",VLOOKUP(【参考】営業種目表!H9,【参考】営業種目表!$K$3:$L$78,2,FALSE)),\"コードを　選択\")","v":""},null,null,null,null,null,null,null,null,null,null,null,null,null,null,""]
[null,"第９希望",null,null,null,null,{"$f":"IF(F24=\"\",\"\",VLOOKUP(F24,【参考】営業種目表!$A$3:$B$78,2))","v":""},null,null,{"$f":"_xlfn.IFNA(IF(【参考】営業種目表!H10=\"\",\"\",VLOOKUP(【参考】営業種目表!H10,【参考】営業種目表!$K$3:$L$78,2,FALSE)),\"コードを　選択\")","v":""},null,null,null,null,null,null,null,null,null,null,null,null,null,null,""]
[null,"第１０希望",null,null,null,null,{"$f":"IF(F25=\"\",\"\",VLOOKUP(F25,【参考】営業種目表!$A$3:$B$78,2))","v":""},null,null,{"$f":"_xlfn.IFNA(IF(【参考】営業種目表!H11=\"\",\"\",VLOOKUP(【参考】営業種目表!H11,【参考】営業種目表!$K$3:$L$78,2,FALSE)),\"コードを　選択\")","v":""},null,null,null,null,null,null,null,null,null,null,null,null,null,null,""]
[null,"（注）・入札に参加したい品目の順位で記入してください。"]
[null,"　　　・小分類欄は参加希望する順に記入してください。"]
[null,"　　　・コード等は別紙1を参照してください。"]
[null,"　　　※取扱品目欄は、業者選定の参考となるため、別紙1営業種目表の取扱品目に限らず、"]
[null,"　　　　具体的に記入してください。"]

{"sheet":"【参考】営業種目表","index":3,"n_rows":86,"n_cols":12,"rows_kept":86,"cut":false,"hidden":false,"merged":[[2,5,5,5],[7,5,9,5],[0,0,0,1],[0,2,0,3],[0,4,1,4],[84,0,84,3],[10,5,18,5],[79,0,79,3],[81,0,81,3],[83,0,83,3],[80,0,80,4],[40,5,43,5],[32,5,38,5],[19,5,22,5],[23,5,27,5],[28,5,31,5]]}
["大分類",null,"小分類",null,"取扱品目例"]
["ｺｰﾄﾞ","品目","ｺｰﾄﾞ","品目",null,null,1,{"$f":"'１申請書 (2)'!F16&'１申請書 (2)'!I16","v":""},"大分類","小分類",null,"品目"]
[1,"文具・事務機器類","Ａ","用紙","コピー用紙、印刷用紙等",null,2,{"$f":"'１申請書 (2)'!F17&'１申請書 (2)'!I17","v":""},1,"A","1A","用紙"]
[null,null,"Ｂ","文具","文房具",null,3,{"$f":"'１申請書 (2)'!F18&'１申請書 (2)'!I18","v":""},1,"B","1B","文具"]
[null,null,"Ｃ","印章","印鑑・ゴム印",null,4,{"$f":"'１申請書 (2)'!F19&'１申請書 (2)'!I19","v":""},1,"C","1C","印章"]
[null,null,"Ｄ","事務機器","複写機、パソコン、パソコンソフト、印刷機",null,5,{"$f":"'１申請書 (2)'!F20&'１申請書 (2)'!I20","v":""},1,"D","1D","事務機器"]
[2,"家具類","Ａ","家具","応接セット、学生机、イス等",null,6,{"$f":"'１申請書 (2)'!F21&'１申請書 (2)'!I21","v":""},2,"A","2A","家具"]
[3,"電気機器類","Ａ","電気・通信機器","テレビ・ビデオ・ＤＶＤ、電話機・ファクシミリ等",null,7,{"$f":"'１申請書 (2)'!F22&'１申請書 (2)'!I22","v":""},3,"A","3A","電気・通信機器"]
[null,null,"Ｂ","冷暖房機器","エアコン、温風ヒーター等",null,8,{"$f":"'１申請書 (2)'!F23&'１申請書 (2)'!I23","v":""},3,"B","3B","冷暖房機器"]
[null,null,"Ｓ","その他","上記以外の電気機器",null,9,{"$f":"'１申請書 (2)'!F24&'１申請書 (2)'!I24","v":""},3,"S","3S","その他"]
[4,"産業機器類","Ａ","医療機器★①","医療ベッド、レントゲン、心電計、AED等",null,10,{"$f":"'１申請書 (2)'!F25&'１申請書 (2)'!I25","v":""},4,"A","4A","医療機器"]
[null,null,"Ｂ","介護機器","車いす、介護ベッド、浴槽等",null,null,null,4,"B","4B","介護機器"]
[null,null,"Ｃ","理化学機器","各種分析・実験機器",null,null,null,4,"C","4C","理化学機器"]
[null,null,"Ｄ","計測機器","音響・気象・測量用機器",null,null,null,4,"D","4D","計測機器"]
[null,null,"Ｅ","写真機器","カメラ、双眼鏡等",null,null,null,4,"E","4E","写真機器"]
[null,null,"Ｆ","食器・調理機・厨房機器","食器、オーブン、冷凍冷蔵庫等",null,null,null,4,"F","4F","食器・調理機・厨房機器"]
[null,null,"Ｇ","消防・防災機器","消防・防災・水難機器",null,null,null,4,"G","4G","消防・防災機器"]
[null,null,"H","工事産業機器","建設・農業・水産・畜産・工作・繊維機械、ドローン等",null,null,null,4,"H","4H","工事産業機器"]
[null,null,"Ｓ","その他","上記以外の産業機器",null,null,null,4,"S","4S","その他"]
[5,"薬品類","Ａ","医療薬品","ワクチン、注射器等",null,null,null,5,"A","5A","医療薬品"]
[null,"★②","Ｂ","工業薬品","活性炭、プール用薬品",null,null,null,5,"B","5B","工業薬品"]
[null,null,"Ｃ","農業薬品","除草剤、肥料、飼料",null,null,null,5,"C","5C","農業薬品"]
[null,null,"Ｓ","その他","上記以外の薬品",null,null,null,5,"S","5S","その他"]
[6,"車両・船舶類","Ａ","一般車両","自動車、自転車",null,null,null,6,"A","6A","一般車両"]
[null,null,"Ｂ","特殊車両","除雪車、救急車、雪上車",null,null,null,6,"B","6B","特殊車両"]
[null,null,"Ｃ","タイヤ",null,null,null,null,6,"C","6C","タイヤ"]
[null,null,"Ｄ","船舶","船外機、ボート等",null,null,null,6,"D",{"$f":"I27&J27","v":"6D"},"船舶"]
[null,null,"Ｓ","その他","車両部品等",null,null,null,6,"S",{"$f":"I28&J28","v":"6S"},"その他"]
[7,"燃料・油脂類","Ａ","石油","ガソリン、灯油、重油、潤滑油",null,null,null,7,"A","7A","石油"]
[null,"★③","Ｂ","プロパン類",null,null,null,null,7,"B","7B","プロパン類"]
[null,null,"Ｃ","ガス類","工業用ガス",null,null,null,7,"C","7C","ガス類"]
[null,null,"Ｄ","ワックス類","床ワックス",null,null,null,7,"D","7D","ワックス類"]
[8,"工事用材料類","Ａ","鋼材","鋼材、鋼管、アルミ等",null,null,null,8,"A","8A","鋼材"]
[null,null,"Ｂ","ｱｽﾌｧﾙﾄ類","アスファルト、コールタール等",null,null,null,8,"B","8B","ｱｽﾌｧﾙﾄ類"]
[null,null,"Ｃ","セメント類","セメント、コンクリート、石灰",null,null,null,8,"C","8C","セメント類"]
[null,null,"Ｄ","砂利・砕石類","砂、砕石",null,null,null,8,"D","8D","砂利・砕石類"]
[null,null,"Ｅ","杭・ポール","境界杭、スノーポール等",null,null,null,8,"E","8E","杭・ポール"]
[null,null,"Ｆ","看板","プレート、案内板、標識",null,null,null,8,"F","8F","看板"]
[null,null,"Ｇ","諸材料類","木材、塗料",null,null,null,8,"G","8G","諸材料類"]
[null,null,"Ｓ","その他","防じん剤等",null,null,null,8,"S","8S","その他"]
[9,"繊維・ゴム類","Ａ","被服","作業服、消防制服、制帽、調理服、防寒服",null,null,null,9,"A","9A","被服"]
[null,null,"Ｂ","ナイロン・ゴム・革","雨衣、ゴム長靴・手袋、テント、シート、安全靴",null,null,null,9,"B","9B","ナイロン・ゴム・革"]
[null,null,"Ｃ","ビニール","ビニール手袋、ポリ袋",null,null,null,9,"C","9C","ビニール"]
[null,null,"Ｄ","寝具・内装品","カーテン★④、暗幕、畳、布団、校旗",null,null,null,9,"D","9D","寝具・内装品"]
[10,"教材教具","Ａ","教材","学校・保育用教材等",null,null,null,10,"A","10A","教材"]
[null,null,"Ｂ","ﾊﾟｿｺﾝｿﾌﾄ","ビデオ・ＤＶＤ含む",null,null,null,10,"B","10B","ﾊﾟｿｺﾝｿﾌﾄ"]
[null,null,"Ｃ ","楽器","ピアノ、太鼓、フルート等 ",null,null,null,10,"C","10C","楽器"]
[null,null,"Ｄ","図書","書籍、雑誌等",null,null,null,10,"D","10D","図書"]
[11,"スポーツ・遊具類","Ａ","ｽﾎﾟｰﾂ用具",null,null,null,null,11,"A","11A","ｽﾎﾟｰﾂ用具"]
[null,null,"Ｂ ","ｽﾎﾟｰﾂｳｪｱ","トレーニングウェア、シューズ",null,null,null,11,"B","11B","ｽﾎﾟｰﾂｳｪｱ"]
[null,null,"Ｃ","遊具施設","ブランコ、ジャングルジム等",null,null,null,11,"C","11C","遊具施設"]
[12,"雑類","Ａ","贈答品","花瓶・銅器・茶器",null,null,null,12,"A","12A","贈答品"]
[null,null,"Ｂ","時計・貴金属","置時計等",null,null,null,12,"B","12B","時計・貴金属"]
[null,null,"Ｃ","盾･ﾄﾛﾌｨｰ","盾･カップ等",null,null,null,12,"C","12C","盾･ﾄﾛﾌｨｰ"]
[null,null,"Ｄ","日用雑貨","清掃用品、家庭金物、荒物、トイレットペーパー、ごみ袋",null,null,null,12,"D","12D","日用雑貨"]
[null,null,"Ｅ","選挙用品",null,null,null,null,12,"E","12E","選挙用品"]
[null,null,"Ｆ","表示板・プレート","住居表示用表示板、原動機付自転車標識等",null,null,null,12,"F","12F","表示板・プレート"]
[null,null,"Ｇ","種苗","園芸用品含む",null,null,null,12,"G","12G","種苗"]
[null,null,"Ｓ","その他","ﾊﾞｯｼﾞ、ﾈｰﾑﾌﾟﾚｰﾄ、徽章等",null,null,null,12,"S","12S","その他"]
[13,"印刷","Ａ","ｶﾗｰ冊子(20頁以上)","報告書、計画書等",null,null,null,13,"A","13A","ｶﾗｰ冊子(20頁以上)"]
[null,null,"Ｂ","ﾓﾉｸﾛ冊子(20頁以上)","報告書、計画書、予算書等",null,null,null,13,"B","13B","ﾓﾉｸﾛ冊子(20頁以上)"]
[null,null,"Ｃ","ﾊﾟﾝﾌﾚｯﾄ(20頁未満)","ＰＲ誌、事業概要等",null,null,null,13,"C","13C","ﾊﾟﾝﾌﾚｯﾄ(20頁未満)"]
[null,null,"Ｄ","ﾁﾗｼ･ﾘｰﾌﾚｯﾄ","一枚物の案内、ＰＲ物",null,null,null,13,"D","13D","ﾁﾗｼ･ﾘｰﾌﾚｯﾄ"]
[null,null,"Ｅ","ポスター",null,null,null,null,13,"E","13E","ポスター"]
[null,null,"Ｆ","事務用印刷物","申請書、伝票(単式･複写)、封筒等",null,null,null,13,"F","13F","事務用印刷物"]
[null,null,"Ｇ","フォーム印刷","連続伝票、圧着式はがき、ＯＣＲ等",null,null,null,13,"G","13G","フォーム印刷"]
[null,null,"Ｈ","カード印刷","住基カード、印鑑登録証、国保証等",null,null,null,13,"H","13H","カード印刷"]
[null,null,"Ｉ","地図",null,null,null,null,13,"I","13I","地図"]
[null,null,"Ｓ","その他(具体的に記入してください)","マイクロフィルム、シール印刷(ステッカー・ラベル)、スクリーン印刷、アルバム印刷、賞状等",null,null,null,13,"S","13S","その他"]
[14,"売却","Ａ","一般車両","市有車の買取り",null,null,null,14,"A","14A","一般車両"]
[null,"★⑤","Ｂ","特殊車両","市有特殊車の買取り",null,null,null,14,"B","14B","特殊車両"]
[null,null,"Ｓ","その他","上記以外の不用品買取り",null,null,null,14,"S","14S","その他"]
[15,"賃貸借","Ａ","車両","車両のリース",null,null,null,15,"A","15A","車両"]
[null,null,"Ｂ","ＯＡ機器","ＯＡ機器のリース",null,null,null,15,"B","15B","ＯＡ機器"]
[null,null,"Ｃ","プレハブ","プレハブ・倉庫等のリース",null,null,null,15,"C","15C","プレハブ"]
[null,null,"Ｄ","医療機器","医療機器のリース★①",null,null,null,15,"D","15D","医療機器"]
[null,null,"Ｓ","その他","上記以外のリース",null,null,null,15,"S","15S","その他"]
[16,"電力供給","Ａ","電力供給","★⑥",null,null,null,16,"A","16A","電力供給"]
[]
["営業許可、登録等証明書を必要とする場合（詳細は要領P3）"]
["★①医療用具販売業届出済証、高度管理医療機器等販売業・貸与業許可証"]
["★②毒物劇物一般販売業登録票、医薬品販売業許可証"]
["★③危険物取扱者免状、液化石油ガス販売許可証、揮発油販売業許可証、石油販売業許可証"]
["★④防災表示者認定証"]
["★⑤古物商許可証"]
["★⑥小売電気事業者として登録されている事業者のみ希望可能です（添付書類は不要）"]

{"sheet":"１申請書 (3)","index":4,"n_rows":37,"n_cols":25,"rows_kept":37,"cut":false,"hidden":false,"merged":[[14,12,14,21],[15,12,15,21],[16,12,16,21],[17,12,17,21],[36,12,36,21],[28,12,28,21],[29,12,29,21],[30,12,30,21],[31,12,31,21],[32,12,32,21],[33,12,33,21],[18,12,18,21],[20,12,20,21],[34,12,34,21],[35,12,35,21],[24,12,24,21],[19,12,19,21],[32,2,32,10],[33,2,33,10],[34,2,34,10],[35,2,35,10],[25,12,25,21],[26,12,26,21],[27,12,27,21],[21,12,21,21],[22,12,22,21],[23,12,23,21],[36,2,36,10],[19,2,19,10],[31,2,31,10],[20,2,20,10],[21,2,21,10],[22,2,22,10],[23,2,23,10],[24,2,24,10],[25,2,25,10],[26,2,26,10],[27,2,27,10],[28,2,28,10],[29,2,29,10],[30,2,30,10],[14,2,14,10],[15,2,15,10],[16,2,16,10],[17,2,17,10],[18,2,18,10],[2,15,2,21],[3,6,3,9],[3,10,3,14],[3,15,3,21],[2,1,2,5],[3,1,3,5],[2,6,2,9],[2,10,2,14],[4,1,4,5],[4,6,4,9],[4,10,4,14],[13,2,13,10],[6,10,6,14],[12,2,12,10],[9,1,9,8],[10,8,10,18],[12,12,12,21],[13,12,13,21],[10,19,10,20],[4,15,4,21],[5,1,5,5],[5,6,5,9],[5,10,5,14],[5,15,5,21],[6,15,6,21],[6,1,6,5],[7,1,7,5],[7,15,7,21],[6,6,6,9],[7,6,7,9],[7,10,7,14]]}
[null,null,null,null,null,null,null,null,null,null,null,null,null,null,null,null,null,null,null,null,null,null,{"$f":"入力!D6&\"\"","v":""}]
[null,"３　契約実績"]
[true,"契約先",null,null,null,null,"契約年月日",null,null,null,"契約金額\n（千円）（税込）",null,null,null,null,"納入物品"]
[false]
[]
[]
[false]
[false]
[null,"（注）申請日の直前２年間の営業年度における官公庁等との契約で、主たるものを５件まで記入してください。"]
[]
[null,"４　取扱品目のメーカー名",null,null,null,null,null,null,"前回申請時と変更が無い場合はチェック⇒",null,null,null,null,null,null,null,null,null,null,null,null,null,null,false]
[null,"　・取扱いできるメーカー名を得意な順位で記入してください。（50件まで）"]
[null,1,null,null,null,null,null,null,null,null,null,26,null,null,null,null,null,null,null,null,null,null,null,null,{"$f":"IF(入力!D5=\"新規\", \"新規の場合はメーカー名を記入してください\", \"\")","v":"新規の場合はメーカー名を記入してください"}]
[null,2,null,null,null,null,null,null,null,null,null,27]
[null,3,null,null,null,null,null,null,null,null,null,28]
[null,4,null,null,null,null,null,null,null,null,null,29]
[null,5,null,null,null,null,null,null,null,null,null,30]
[null,6,null,null,null,null,null,null,null,null,null,31]
[null,7,null,null,null,null,null,null,null,null,null,32]
[null,8,null,null,null,null,null,null,null,null,null,33]
[null,9,null,null,null,null,null,null,null,null,null,34]
[null,10,null,null,null,null,null,null,null,null,null,35]
[null,11,null,null,null,null,null,null,null,null,null,36]
[null,12,null,null,null,null,null,null,null,null,null,37]
[null,13,null,null,null,null,null,null,null,null,null,38]
[null,14,null,null,null,null,null,null,null,null,null,39]
[null,15,null,null,null,null,null,null,null,null,null,40]
[null,16,null,null,null,null,null,null,null,null,null,41]
[null,17,null,null,null,null,null,null,null,null,null,42]
[null,18,null,null,null,null,null,null,null,null,null,43]
[null,19,null,null,null,null,null,null,null,null,null,44]
[null,20,null,null,null,null,null,null,null,null,null,45]
[null,21,null,null,null,null,null,null,null,null,null,46]
[null,22,null,null,null,null,null,null,null,null,null,47]
[null,23,null,null,null,null,null,null,null,null,null,48]
[null,24,null,null,null,null,null,null,null,null,null,49]
[null,25,null,null,null,null,null,null,null,null,null,50]

{"sheet":"１申請書 (4)","index":5,"n_rows":28,"n_cols":24,"rows_kept":28,"cut":false,"hidden":false,"merged":[[6,13,6,19],[10,9,10,11],[27,19,31,21],[27,1,31,3],[27,4,31,6],[27,7,31,9],[27,10,31,12],[27,13,31,15],[27,16,31,18],[15,12,15,13],[10,18,10,20],[11,6,11,8],[11,9,11,11],[11,12,11,14],[11,15,11,17],[11,18,11,19],[5,17,5,18],[5,9,5,10],[4,13,4,15],[4,17,4,18],[5,13,5,15],[3,1,3,4],[4,1,5,4],[4,5,4,7],[5,5,5,7],[4,9,4,10],[8,1,8,4],[6,1,6,4],[7,1,7,4],[7,5,7,10],[26,1,26,3],[26,4,26,6],[26,7,26,9],[26,10,26,12],[10,1,11,2],[15,1,15,4],[16,1,16,4],[14,1,14,4],[15,5,15,7],[16,5,16,7],[16,9,16,10],[16,12,16,13],[6,5,6,10],[7,13,7,19],[8,13,8,19],[14,5,14,7],[26,19,26,21],[26,13,26,15],[8,5,8,10],[10,12,10,14],[26,16,26,18],[14,9,14,10],[14,12,14,13],[15,9,15,10],[10,3,10,5],[11,3,11,5],[10,6,10,8],[10,15,10,17]]}
[null,null,null,null,null,null,null,null,null,null,null,null,null,null,null,null,null,null,null,null,null,null,{"$f":"入力!D6&\"\"","v":""}]
[null,null,null,null,null,null,null,"経　営　審　査　項　目"]
[]
[true,"区分",null,null,null,null,null,"前々期分決算",null,null,null,null,null,null,null,null,"前期分決算"]
[null,"決算期",null,null,null,null,null,null,"年",null,null,"月から",null,null,null,null,"年",null,null,"月から"]
[false,null,null,null,null,null,null,null,"年",null,null,"月まで",null,null,null,null,"年",null,null,"月まで",null,null,null,{"$f":"IF(OR(N6=\"\",R6=\"\"),\"\",DATE(N6,R6+1,1)-1)","v":""}]
[null,"売上高",null,null,null,null,null,null,null,null,null,null,"千円",null,null,null,null,null,null,null,"千円"]
[null,"払込資本の額\n又は出資の額",null,null,null,null,null,null,null,null,null,null,"千円",null,null,null,null,null,null,null,"千円"]
[false,"自己資本額",null,null,null,null,null,null,null,null,null,null,"千円",null,null,null,null,null,null,null,"千円"]
[]
[null,"常勤職員数",null,"役員",null,null,"事務・営業等",null,null,"技術関係",null,null,"デザイナー",null,null,"その他",null,null,"合計"]
[null,null,null,null,null,null,null,null,null,null,null,null,null,null,null,null,null,null,{"$f":"IF(X12=0,\"\",SUM(D12:R12))","v":""},null,"人",null,null,{"$f":"D12+G12+J12+M12+P12","v":0}]
[null,"（注）前期分決算時の職員数を記入してください。"]
[]
[null,"創業年月日",null,null,null,null,null,null,"年",null,null,"月",null,null,"日",null,null,null,null,null,null,null,null,{"$f":"IF(OR(F15=\"\",J15=\"\",M15=\"\"),\"\",DATE(F15,J15,M15))","v":""}]
[null,"現組織への変更日",null,null,null,null,null,null,"年",null,null,"月",null,null,"日"]
[null,"営業年数",null,null,null,{"$f":"IF(X15=\"\",\"\",DATEDIF(X15,X6+1,\"Y\"))","v":""},null,null,"年"]
[null,"（注）営業年数は、直前決算期末現在で記載し、1年未満の期間は切り捨ててください。"]
[]
[]
[]
[]
[]
[null,"  ",null,null,null,null,null,"　以下、長岡市記入欄"]
[]
[]
[null,"売上高",null,null,"自己資本額",null,null,"常勤職員数",null,null,"売上増減率",null,null,"営業年数",null,null,"点数",null,null,"等級"]
[null,{"$f":"IF(F7=\"\",\"\",IF((F7+N7)/2>=140000,45,IF((F7+N7)/2<70000,25,35)))","v":""},null,null,{"$f":"IF(N9=\"\",\"\",IF(N9>50000,15,IF(N9<=15000,7,11)))","v":""},null,null,{"$f":"IF(X12=0,\"\",IF(S12>50,10,IF(S12<=10,4,7)))","v":""},null,null,{"$f":"IF(N7=\"\",\"\",IF(F7=0,5,IF((N7/F7)>0.95,20,IF((N7/F7)<0.7,5,15))))","v":""},null,null,{"$f":"IF(F17=\"\",\"\",IF(F17>=20,10,IF(F17<5,4,7)))","v":""},null,null,{"$f":"IF(B28=\"\",\"\",SUM(B28:P32))","v":""}]

{"sheet":"4同意書","index":6,"n_rows":20,"n_cols":16,"rows_kept":20,"cut":false,"hidden":false,"merged":[[17,12,17,19],[19,12,19,18],[22,1,22,19],[1,0,1,20],[4,15,4,19],[6,1,6,7],[7,1,7,7],[8,1,8,7],[15,8,15,10],[15,12,15,19]]}
[]
["市税の納入状況の確認に関する同意書"]
[]
[]
[null,null,null,null,null,null,null,null,null,null,null,null,null,null,null,{"$f":"IF(入力!D7=\"\",\"令和　 年 　月 　日\",入力!D7)","v":"令和　 年 　月 　日"}]
[]
[null,"長　　　岡　　　市　　　長  様"]
[null,"長　岡　市　水　道　局　長　様"]
[null,"長岡地域土地開発公社理事長　様"]
[]
[]
[null,null,"　私は、長岡市物品入札参加資格審査申請に係る事項について、担当職員が私の市税の"]
[null,null,"納入状況を確認することに同意します。"]
[]
[]
[null,null,null,null,null,null,null,null,"住　　所",null,null,null,{"$f":"入力!D17&\"\"","v":""}]
[]
[null,null,null,null,null,null,null,null,"商号又は名称",null,null,null,{"$f":"入力!D21&\"\"","v":""}]
[]
[null,null,null,null,null,null,null,null,"委任者職・氏名",null,null,null,{"$f":"入力!D22&\"　\"&入力!D24","v":"　"}]

{"sheet":"7委任状","index":7,"n_rows":41,"n_cols":23,"rows_kept":41,"cut":false,"hidden":false,"merged":[[25,12,25,18],[1,0,1,20],[4,15,4,19],[6,1,6,7],[7,1,7,7],[8,1,8,7],[10,8,10,10],[10,12,10,19],[12,12,12,19],[14,12,14,18],[17,1,17,19],[21,12,21,19],[23,12,23,19],[37,1,37,10],[28,8,28,19],[32,1,32,10],[33,1,33,10],[34,1,34,10],[35,1,35,10],[36,1,36,10]]}
[]
["委　　任　　状"]
[]
[]
[null,null,null,null,null,null,null,null,null,null,null,null,null,null,null,{"$f":"IF(入力!D7=\"\",\"令和　 年 　月 　日\",入力!D7)","v":"令和　 年 　月 　日"}]
[]
[null,"長　　　岡　　　市　　　長  様"]
[null,"長　岡　市　水　道　局　長　様"]
[null,"長岡地域土地開発公社理事長　様"]
[]
[null,null,null,null,null,null,null,"（委　任　者）　","住　　所",null,null,null,{"$f":"入力!D17&\"\"","v":""}]
[]
[null,null,null,null,null,null,null,null,"商号又は名称",null,null,null,{"$f":"入力!D21&\"\"","v":""}]
[]
[null,null,null,null,null,null,null,null,"委任者職・氏名",null,null,null,{"$f":"入力!D22&\"　\"&入力!D24","v":"　"}]
[]
[]
[null,"私は、下記の者を代理人と定め、次のとおり事務を処理する権限を委任いたします。"]
[]
[null,null,null,null,null,null,null,null,null,null,"記"]
[]
[null,null,null,null,null,null,null,"（受　任　者）　","住　　所",null,null,null,{"$f":"入力!D28&\"\"","v":""}]
[]
[null,null,null,null,null,null,null,null,"商号又は名称",null,null,null,{"$f":"入力!D30&\"\"","v":""}]
[]
[null,null,null,null,null,null,null,null,"受任者職・氏名",null,null,null,{"$f":"入力!D31&\"　\"&入力!D33","v":"　"}]
[]
[]
[]
[]
[]
[null,"１　委任事項"]
[null,"(1)　入札及び見積りに関すること。"]
[null,"(2)　契約の締結に関すること。"]
[null,"(3)　契約の履行に関すること。"]
[null,"(4)　代金の請求に関すること。"]
[null,"(5)　復代理人の選任に関すること。"]
[null,"(6)　その他、これらに付随する一切の件。"]
[]
[null,"２　委任期間"]
[null,null,"令和",8,"年",4,"月",1,"日","から",null,"令和",10,"年",3,"月",31,"日","まで",null,null,null,{"$f":"IF(MONTH(入力!D7)<12,YEAR(入力!D7),YEAR(入力!D7)+1)","v":1900}]

{"sheet":"8電子入札参加申請書","index":8,"n_rows":42,"n_cols":11,"rows_kept":42,"cut":false,"hidden":false,"merged":[[12,6,12,9],[14,6,14,9],[1,0,1,9],[9,6,9,9],[10,6,10,9],[11,6,11,9],[7,0,7,2],[8,0,8,2],[9,0,9,2],[5,0,5,2],[5,7,5,9],[6,7,6,9],[41,5,41,8],[35,3,35,8],[36,3,36,8],[39,0,39,4],[40,0,40,1],[41,0,41,1],[40,2,40,4],[41,2,41,4],[37,3,37,8],[40,5,40,8],[36,0,36,2],[37,0,37,2],[26,0,26,2],[27,0,27,2],[20,0,20,1],[21,1,21,2],[21,3,21,6],[25,0,25,2],[26,3,26,8],[27,3,27,8],[15,6,15,9],[13,6,13,9],[17,4,17,9],[18,4,18,9],[25,3,25,8],[21,7,21,8],[30,3,30,8],[31,3,31,8],[35,0,35,2],[30,0,30,2],[31,0,31,2],[32,0,32,2],[32,3,32,8]]}
[]
["長岡市電子入札参加申請書"]
[]
["長岡市電子入札契約システムによる電子入札に参加したいので、電子入札参加申請を提出します。"]
[]
[{"$f":"IF(入力!D7=\"\",\"令和　 年 　月 　日\",入力!D7)","v":"令和　 年 　月 　日"},null,null,null,null,null,null,"登録番号（６桁）"]
[null,null,null,null,null,null,null,{"$f":"入力!D6&\"\"","v":""}]
["長岡市長　　様"]
["長岡市水道局長　　様",null,null,null,"申請者"]
["長岡地域土地開発公社理事長　　様",null,null,null,"郵便番号",null,{"$f":"IF(入力!D16=\"\",\"\",IF(入力!D27=\"\",入力!D16&\"-\"&入力!F16,入力!D27&\"-\"&入力!F27))","v":""}]
[null,null,null,null,"住　所",null,{"$f":"IF(入力!D17=\"\",\"\",IF(入力!D28=\"\",入力!D17,入力!D28))","v":""}]
[null,null,null,null,"フ　リ　ガ　ナ",null,{"$f":"IF(入力!D20=\"\",\"\",IF(入力!D29=\"\",入力!D20,入力!D29))","v":""}]
[null,null,null,null,"商号又は名称",null,{"$f":"IF(入力!D21=\"\",\"\",IF(入力!D30=\"\",入力!D21,入力!D30))","v":""}]
[null,null,null,null,"代表者職名",null,{"$f":"IF(入力!D22=\"\",\"\",IF(入力!D31=\"\",入力!D22,入力!D31))","v":""}]
[null,null,null,null,"フ　リ　ガ　ナ",null,{"$f":"IF(入力!D23=\"\",\"\",IF(入力!D32=\"\",入力!D23,入力!D32))","v":""}]
[null,null,null,null,"代表者氏名",null,{"$f":"IF(入力!D24=\"\",\"\",IF(入力!D33=\"\",入力!D24,入力!D33))","v":""}]
[]
[null,null,null,null,"※支店、営業所等で登録している会社は、支店、営業所等で申請してください。"]
[null,null,null,null,"※電子入札・指名通知等は入札参加資格審査申請書に記載いただいたメールアドレスに送付します。"]
[]
["１．申請する区分"]
["　　　","　建設工事　",null,"　　測量・建設コンサルタント等",null,null,null,"　　物品",null,null,false]
[]
["２．電子証明書（ＩＣカード）情報　　",null,null,"※複数枚登録可能"]
["電子証明書１"]
["民間認証局名"]
["ＩＣカード申請者氏名"]
["ＩＣカード有効期限"]
[]
["電子証明書２"]
["民間認証局名"]
["ＩＣカード申請者氏名"]
["ＩＣカード有効期限"]
[]
["電子証明書３"]
["民間認証局名"]
["ＩＣカード申請者氏名"]
["ＩＣカード有効期限"]
[]
["３．この書類に関する問い合わせ先"]
["担当部署",null,"担当者氏名",null,null,"電話番号"]
[{"$f":"入力!D12&\"\"","v":""},null,{"$f":"入力!D11&\"\"","v":""},null,null,{"$f":"IF(入力!D13=\"\",\"\",入力!D13&\"-\"&入力!F13&\"-\"&入力!H13)","v":""}]

{"sheet":"9誓約書","index":9,"n_rows":39,"n_cols":16,"rows_kept":39,"cut":false,"hidden":false,"merged":[[19,1,19,19],[24,2,24,5],[24,6,24,9],[24,11,24,20],[1,0,1,20],[10,2,10,5],[4,15,4,19],[12,12,12,19],[10,12,10,19],[14,12,14,18],[14,8,14,10],[12,8,12,10],[10,8,10,10],[16,8,16,10],[16,12,16,18]]}
[]
["誓　　約　　書"]
[]
[]
[null,null,null,null,null,null,null,null,null,null,null,null,null,null,null,{"$f":"IF(入力!D7=\"\",\"令和　 年 　月 　日\",入力!D7)","v":"令和　 年 　月 　日"}]
[]
[null,"長　　　岡　　　市　　　長　様"]
[null,"長　岡　市　水　道　局　長　様"]
[null,"長岡地域土地開発公社理事長　様"]
[]
[null,null,null,null,null,null,null,null,"住所（所在地）",null,null,null,{"$f":"入力!D17&\"\"","v":""}]
[]
[null,null,null,null,null,null,null,null,"商号又は名称",null,null,null,{"$f":"入力!D21&\"\"","v":""}]
[]
[null,null,null,null,null,null,null,null,"代表者職・氏名",null,null,null,{"$f":"入力!D22&\"　\"&入力!D24","v":"　"}]
[]
[null,null,null,null,null,null,null,null,"電話番号",null,null,null,{"$f":"IF(入力!D18=\"\",\"\",入力!D18&\"-\"&入力!F18&\"-\"&入力!H18)","v":""}]
[]
[]
[null,"私（弊社）は、次の事項について、いずれにも該当しないことを誓約いたします。"]
[null,"また、次の事項に該当することとなった場合には、速やかに届け出るとともに、参加資格の取"]
["り消しなど、長岡市、長岡市水道局及び長岡地域土地開発公社の行う一切の措置について異議申"]
["立てを行いません。"]
[]
[]
["１　暴力団（暴力団員による不当な行為の防止等に関する法律（平成３年法律第77号）第２条第"]
[null,"２号に規定する暴力団をいう。以下同じ。）又は暴力団員（暴力団員による不当な行為の防止"]
[null,"等に関する法律第２条第６号に規定する暴力団員をいう。以下同じ。）が経営に実質的に関与"]
[null,"していると認められる者"]
["２　自己若しくは第三者の不正の利益を図る目的又は第三者に損害を加える目的をもって、暴力"]
[null,"団又は暴力団員を利用していると認められる者"]
["３　暴力団員と認められる者"]
["４　暴力団又は暴力団員に対して資金等を供給し、又は便宜を供与する等直接的又は積極的に暴"]
[null,"力団の維持又は運営に協力し、又は関与していると認められる者"]
["５　暴力団又は暴力団員と社会的に非難されるべき関係を有すると認められる者"]
["６　法人にあっては、その役員(その支店又は営業所の代表者を含む。７において同じ。)が、自"]
[null,"己、自社若しくは第三者の不正の利益を図る目的又は第三者に損害を加える目的をもって、暴"]
[null,"力団又は暴力団員を利用していると認められるもの"]
["７　法人にあっては、その役員のうちに３から５までのいずれかに該当する者があるもの"]

{"sheet":"10支店・営業所等一覧表","index":10,"n_rows":21,"n_cols":5,"rows_kept":21,"cut":false,"hidden":false,"merged":[[13,3,14,3],[13,4,14,4],[6,3,7,3],[6,4,7,4],[8,1,9,1],[8,2,9,2],[8,3,9,3],[8,4,9,4],[2,2,2,4],[3,2,3,4],[0,0,0,4],[10,1,11,1],[10,2,11,2],[10,3,11,3],[10,4,11,4]]}
["新潟県内　支店・営業所等一覧表"]
[null,null,"【本社情報】　　　　　　　　　　　　　　　　　"]
[null,"住　所　　　　　　　　　　　　　　　　　",{"$f":"入力!D17&\"\"","v":""}]
[null,"商号又は名称　　　　　　　　　　　　　　　　　",{"$f":"入力!D21&\"\"","v":""}]
[]
["<記載例>"]
["商号または名称","郵便番号","住　　　所","電話番号","ＦＡＸ番号"]
["（支店・営業所等）","(支店・営業所等)","（支店・営業所等）"]
["例）本社が東京都で新潟市に営業所がある場合","000－0000","新潟県新潟市○○町○丁目○番地○号","0258-39-2210","0258-39-2276"]
["㈱トウキョウ　新潟営業所"]
["例）本社が新潟県内で長岡市に営業所がある場合","000－0000","新潟県長岡市○○町○丁目○番地○号","0258-39-2210","0258-39-2276"]
["㈱ニイガタ　長岡営業所"]
[]
["商号または名称","郵便番号","住　　　所","電話番号","ＦＡＸ番号"]
["（支店・営業所等）","(支店・営業所等)","（支店・営業所等）"]
[]
[]
[]
[]
[]
["※必要に応じ、行を追加してください。"]

{"sheet":"11印刷機械設備調書","index":11,"n_rows":27,"n_cols":5,"rows_kept":27,"cut":false,"hidden":false,"merged":[[0,0,0,4],[11,1,12,1],[11,2,12,2],[11,3,12,3],[20,1,20,2],[8,1,8,2],[2,3,2,4],[3,3,3,4]]}
["印刷機械設備調書"]
[]
[null,null,"登録番号",{"$f":"入力!D6&\"\"","v":""}]
[null,null,"商号又は名称　　　　　　　　　　　　　　　　　",{"$f":"入力!D21&\"\"","v":""}]
[null,"※営業概要にて、「２　製造(印刷業者が該当)」に該当の業者は、提出をしてください。"]
[null,"※下記の記載例に基づき、該当する箇所に記載をしてください。"]
[null,"※必要に応じ、行を追加してください。"]
[]
[null,"１．自社で印刷をしている場合"]
[null,"<記載例>"]
[null,"印刷機の種類","台数","保有状況","保有場所"]
[null,"一般印刷（オフセット印刷機）等",2,"所有","東京都　本社（１台）、"]
[null,null,null,null,"○○市　営業所（１台）"]
[null,"フォーム印刷",1,"リース","本社（１台）"]
[]
[null,"印刷機の種類","台数","保有状況","保有場所"]
[]
[]
[]
[]
[null,"２．外注にて印刷をしている場合"]
[null,"<記載例>"]
[null,"印刷機の種類","外注箇所数","外注場所"]
[null,"一般印刷（オフセット印刷機）等","1箇所","新潟県○○市"]
[null,"フォーム印刷機","１箇所","東京都○○区"]
[]
[null,"印刷機の種類","外注箇所数","外注場所"]

{"sheet":"12チェックリスト（法人）","index":12,"n_rows":31,"n_cols":5,"rows_kept":31,"cut":false,"hidden":false,"merged":[[28,0,29,0],[29,1,29,2],[28,1,28,2],[30,1,30,2],[16,0,17,0],[16,1,17,1],[16,2,17,2],[25,1,25,2],[26,1,26,2],[27,1,27,2],[12,0,13,0],[12,1,13,1],[0,0,0,3],[5,2,6,2],[2,0,3,0],[7,1,10,1],[7,2,10,2],[7,0,10,0],[2,3,3,3],[5,0,6,0],[5,1,6,1],[7,3,8,3],[16,3,17,3],[12,2,13,2],[2,1,3,1],[2,2,3,2],[9,3,10,3]]}
["提出書類チェックリスト（物品）\n提出時に必ず本チェックリストを一緒に提出してください。"]
["【法人用】"]
["申請者チェック欄","市点検欄","書　類","注意事項"]
[]
[null,"□","申請書（１部）","・申請書は４枚ありますか。（両面印刷不可。）"]
[null,"□","履歴事項全部証明書又は現在事項全部証明書（写し可）","・最新の情報が記載されていますか。"]
[null,null,null,"※希望する営業種目のうち、定款に記載のある事業目的が載っていない場合は、申請日現在の定款(写し可)の提出もお願いします。（目的の部分のみ）"]
[null,"□","財務諸表（写し可）","・① 貸借対照表　② 損益計算書　③ 株主資本等変動計算書が揃っていますか。"]
[]
[null,null,null,"・①～③まで、２期分（２４か月分）揃っていますか。（２期分が２４か月に満たない場合、２４か月相当分の期分を提出。）"]
[]
[null,"□","市税の納入状況の確認に関する同意書","・提出必須です"]
[null,"□","法人税・消費税及び地方消費税の未納がない証明書（その３の３）（写し可）","・税務署発行の『法人税・消費税及び地方消費税』（その３の３）はありますか。"]
[null,null,null,"・納税証明書は６か月以内に発行されたものですか。"]
[null,"□","営業許可、登録等証明書（写し可）",null,{"$f":"IF('１申請書 (2)'!A10=TRUE,\"古物商許可証の提出が必要です\",\"\")","v":""}]
[null,"□","委任状","・委任期間は、令和８年４月１日から令和10年３月31日です。",{"$f":"IF(入力!D30=\"\",\"委任状は不要です\",\"委任状が必要です\")","v":"委任状は不要です"}]
[null,"□","電子入札参加申請書","・電子入札を希望する場合必要です。（継続申請で以前に提出している方は不要）"]
[]
[null,"□","誓約書"]
[null,"□","新潟県内支店・営業所等一覧表","・委任をしていない支店・営業所等のみ記載されていますか。"]
[null,"□","印刷機械設備調書","・印刷業申請業者のみ必要です。",{"$f":"IF('１申請書 (2)'!A8=TRUE,\"印刷機械設備調書が必要です\",\"印刷機械設備調書は不要です\")","v":"印刷機械設備調書は不要です"}]
[null,"□","提出書類チェックリスト"]
[]
["書類に関する連絡先（作成者）"]
["※書類に関する不明点があった際、こちらにご連絡します\n"]
["会社名：",{"$f":"入力!D21&\"\"","v":""}]
["提出日：",{"$f":"IF(入力!D7=\"\",\"令和　　年　　月　　日\",入力!D7)","v":"令和　　年　　月　　日"}]
["部署名：",{"$f":"入力!D12&\"\"","v":""}]
["担当者名：",{"$f":"入力!D10&\"\"","v":""}]
[null,{"$f":"入力!D11&\"\"","v":""}]
["電話番号：",{"$f":"IF(入力!D13=\"\",\"\",入力!D13&\"-\"&入力!F13&\"-\"&入力!H13)","v":""}]

{"sheet":"12チェックリスト（個人)","index":13,"n_rows":27,"n_cols":5,"rows_kept":27,"cut":false,"hidden":false,"merged":[[24,0,25,0],[24,1,24,2],[9,0,10,0],[6,0,7,0],[9,1,10,1],[6,2,7,2],[22,1,22,2],[0,0,0,3],[2,0,3,0],[2,1,3,1],[2,2,3,2],[2,3,3,3],[26,1,26,2],[9,2,10,2],[6,1,7,1],[21,1,21,2],[23,1,23,2],[25,1,25,2]]}
["提出書類チェックリスト（物品）\n提出時に必ず本チェックリストを一緒に提出してください。"]
["\n【個人用】"]
["申請者チェック欄","市点検欄","書　類","注意事項"]
[]
[null,"□","申請書（１部）","・申請書は４枚ありますか。（両面印刷不可。）"]
[null,"□","身分証明書（写し可）","・最新の情報が記載されていますか。"]
[null,"□","財務諸表（写し可）","・青色申告書、またはこれに準ずるもの（資産負債調、損益計算書）が揃っていますか。"]
[null,null,null,"・２期分揃っていますか。（２期分が２４か月に満たない場合、２４か月相当分の期分を提出。）"]
[null,"□","市税の納入状況の確認に関する同意書","・提出必須です"]
[null,"□","申告所得税及び復興特別所得税・消費税及び地方消費税の未納がない証明書（その３の２）（写し可）","・税務署発行の『申告所得税及び復興特別所得税・消費税及び地方消費税』（その３の２）はありますか。"]
[null,null,null,"・納税証明書は６か月以内に発行されたものですか。"]
[null,"□","営業許可、登録等証明書（写し可）"]
[null,"□","委任状","・委任期間は、令和８年４月１日から令和10年３月31日です。",{"$f":"IF(入力!D30=\"\",\"委任状は不要です\",\"委任状が必要です\")","v":"委任状は不要です"}]
[null,"□","電子入札参加申請書","・電子入札を希望する場合必要です。（継続申請で以前に提出している方は不要）"]
[null,"□","誓約書"]
[null,"□","新潟県内支店・営業所等一覧表","・委任をしていない支店・営業所等のみ記載されていますか。"]
[null,"□","印刷機械設備調書","・印刷業申請業者のみ必要です。",{"$f":"IF('１申請書 (2)'!A8=TRUE,\"印刷機械設備調書が必要です\",\"印刷機械設備調書は不要です\")","v":"印刷機械設備調書は不要です"}]
[null,"□","提出書類チェックリスト"]
[]
["書類に関する連絡先（作成者）"]
["※書類に関する不明点があった際、こちらにご連絡します\n"]
["会社名：",{"$f":"入力!D21&\"\"","v":""}]
["提出日：",{"$f":"IF(入力!D7=\"\",\"令和　　年　　月　　日\",入力!D7)","v":"令和　　年　　月　　日"}]
["部署名：",{"$f":"入力!D12&\"\"","v":""}]
["担当者名：",{"$f":"入力!D10&\"\"","v":""}]
[null,{"$f":"入力!D11&\"\"","v":""}]
["電話番号：",{"$f":"IF(入力!D13=\"\",\"\",入力!D13&\"-\"&入力!F13&\"-\"&入力!H13)","v":""}]

{"sheet":"長岡市処理用1","index":14,"n_rows":36,"n_cols":12,"rows_kept":36,"cut":false,"hidden":true,"merged":[]}
["JUCHUSHA_NO\n(受注者番号)","KOSHU_TYPE\n(工種)","工種名称\n※表示のみ。入力不要","KAKUTEI_DATE\n(確定日)","KYOKA_DIV(許可区分)\n１：特定　0:一般","HYOTEN\n(総合評点)","SHOKUIN_IKKYU\n(１級職員数)","SHOKUIN_NIKYU\n(2級職員数)","SHOKUIN_SONOTA\n(その他職員数)","KAKUZUKE_TOKYU\n(格付等級)","ANZEN_ANSHIN(安全安心)\n0:なし　1:あり","SINSEI_DATE\n(申請日)"]
["000000",1010,{"$f":"IF($B2<>\"\",VLOOKUP($B2,[1]koshu!$A$2:$B$35,2,FALSE),\"\")","v":"土木一式"},"2111-11-11",1,1000,10,20,30,"A",1,"2111-11-11"]
[{"$f":"入力!D6","v":0},1010,{"$f":"IF($B3<>\"\",VLOOKUP($B3,[1]koshu!$A$2:$B$35,2,FALSE),\"\")","v":"土木一式"},null,{"$f":"IF(#REF!=\"特定\",1,IF(#REF!=\"一般\",0,\"\"))","v":{"$error":"#REF!"}},{"$f":"#REF!","v":{"$error":"#REF!"}},{"$f":"#REF!","v":{"$error":"#REF!"}},{"$f":"#REF!","v":{"$error":"#REF!"}},{"$f":"#REF!","v":{"$error":"#REF!"}},{"$f":"IF(#REF!=\"－\",\"\",#REF!)","v":{"$error":"#REF!"}},{"$f":"IF(入力!#REF!=\"〇\",1,0)","v":{"$error":"#REF!"}}]
[{"$f":"入力!D6","v":0},1011,{"$f":"IF($B4<>\"\",VLOOKUP($B4,[1]koshu!$A$2:$B$35,2,FALSE),\"\")","v":"プレストレストコンクリート"},null,{"$f":"IF(#REF!=\"特定\",1,IF(#REF!=\"一般\",0,\"\"))","v":{"$error":"#REF!"}},{"$f":"#REF!","v":{"$error":"#REF!"}},{"$f":"#REF!","v":{"$error":"#REF!"}},{"$f":"#REF!","v":{"$error":"#REF!"}},{"$f":"#REF!","v":{"$error":"#REF!"}}]
[{"$f":"入力!D6","v":0},1012,{"$f":"IF($B5<>\"\",VLOOKUP($B5,[1]koshu!$A$2:$B$35,2,FALSE),\"\")","v":"下水道管渠"},null,{"$f":"IF(#REF!=\"特定\",1,IF(#REF!=\"一般\",0,\"\"))","v":{"$error":"#REF!"}},{"$f":"#REF!","v":{"$error":"#REF!"}},{"$f":"#REF!","v":{"$error":"#REF!"}},{"$f":"#REF!","v":{"$error":"#REF!"}},{"$f":"#REF!","v":{"$error":"#REF!"}},{"$f":"IF(#REF!=\"－\",\"\",#REF!)","v":{"$error":"#REF!"}},{"$f":"IF(入力!#REF!=\"〇\",1,0)","v":{"$error":"#REF!"}}]
[{"$f":"入力!D6","v":0},1020,{"$f":"IF($B6<>\"\",VLOOKUP($B6,[1]koshu!$A$2:$B$35,2,FALSE),\"\")","v":"建築一式"},null,{"$f":"IF(#REF!=\"特定\",1,IF(#REF!=\"一般\",0,\"\"))","v":{"$error":"#REF!"}},{"$f":"#REF!","v":{"$error":"#REF!"}},{"$f":"#REF!","v":{"$error":"#REF!"}},{"$f":"#REF!","v":{"$error":"#REF!"}},{"$f":"#REF!","v":{"$error":"#REF!"}},{"$f":"IF(#REF!=\"－\",\"\",#REF!)","v":{"$error":"#REF!"}}]
[{"$f":"入力!D6","v":0},1030,{"$f":"IF($B7<>\"\",VLOOKUP($B7,[1]koshu!$A$2:$B$35,2,FALSE),\"\")","v":"大工"},null,{"$f":"IF(#REF!=\"特定\",1,IF(#REF!=\"一般\",0,\"\"))","v":{"$error":"#REF!"}},{"$f":"#REF!","v":{"$error":"#REF!"}},{"$f":"#REF!","v":{"$error":"#REF!"}},{"$f":"#REF!","v":{"$error":"#REF!"}},{"$f":"#REF!","v":{"$error":"#REF!"}}]
[{"$f":"入力!D6","v":0},1040,{"$f":"IF($B8<>\"\",VLOOKUP($B8,[1]koshu!$A$2:$B$35,2,FALSE),\"\")","v":"左官"},null,{"$f":"IF(#REF!=\"特定\",1,IF(#REF!=\"一般\",0,\"\"))","v":{"$error":"#REF!"}},{"$f":"#REF!","v":{"$error":"#REF!"}},{"$f":"#REF!","v":{"$error":"#REF!"}},{"$f":"#REF!","v":{"$error":"#REF!"}},{"$f":"#REF!","v":{"$error":"#REF!"}}]
[{"$f":"入力!D6","v":0},1050,{"$f":"IF($B9<>\"\",VLOOKUP($B9,[1]koshu!$A$2:$B$35,2,FALSE),\"\")","v":"とび・土工・コンクリート"},null,{"$f":"IF(#REF!=\"特定\",1,IF(#REF!=\"一般\",0,\"\"))","v":{"$error":"#REF!"}},{"$f":"#REF!","v":{"$error":"#REF!"}},{"$f":"#REF!","v":{"$error":"#REF!"}},{"$f":"#REF!","v":{"$error":"#REF!"}},{"$f":"#REF!","v":{"$error":"#REF!"}}]
[{"$f":"入力!D6","v":0},1051,{"$f":"IF($B10<>\"\",VLOOKUP($B10,[1]koshu!$A$2:$B$35,2,FALSE),\"\")","v":"法面処理"},null,{"$f":"IF(#REF!=\"特定\",1,IF(#REF!=\"一般\",0,\"\"))","v":{"$error":"#REF!"}},{"$f":"#REF!","v":{"$error":"#REF!"}},{"$f":"#REF!","v":{"$error":"#REF!"}},{"$f":"#REF!","v":{"$error":"#REF!"}},{"$f":"#REF!","v":{"$error":"#REF!"}}]
[{"$f":"入力!D6","v":0},1060,{"$f":"IF($B11<>\"\",VLOOKUP($B11,[1]koshu!$A$2:$B$35,2,FALSE),\"\")","v":"石"},null,{"$f":"IF(#REF!=\"特定\",1,IF(#REF!=\"一般\",0,\"\"))","v":{"$error":"#REF!"}},{"$f":"#REF!","v":{"$error":"#REF!"}},{"$f":"#REF!","v":{"$error":"#REF!"}},{"$f":"#REF!","v":{"$error":"#REF!"}},{"$f":"#REF!","v":{"$error":"#REF!"}}]
[{"$f":"入力!D6","v":0},1070,{"$f":"IF($B12<>\"\",VLOOKUP($B12,[1]koshu!$A$2:$B$35,2,FALSE),\"\")","v":"屋根"},null,{"$f":"IF(#REF!=\"特定\",1,IF(#REF!=\"一般\",0,\"\"))","v":{"$error":"#REF!"}},{"$f":"#REF!","v":{"$error":"#REF!"}},{"$f":"#REF!","v":{"$error":"#REF!"}},{"$f":"#REF!","v":{"$error":"#REF!"}},{"$f":"#REF!","v":{"$error":"#REF!"}}]
[{"$f":"入力!D6","v":0},1080,{"$f":"IF($B13<>\"\",VLOOKUP($B13,[1]koshu!$A$2:$B$35,2,FALSE),\"\")","v":"電気"},null,{"$f":"IF(#REF!=\"特定\",1,IF(#REF!=\"一般\",0,\"\"))","v":{"$error":"#REF!"}},{"$f":"#REF!","v":{"$error":"#REF!"}},{"$f":"#REF!","v":{"$error":"#REF!"}},{"$f":"#REF!","v":{"$error":"#REF!"}},{"$f":"#REF!","v":{"$error":"#REF!"}},{"$f":"IF(#REF!=\"－\",\"\",#REF!)","v":{"$error":"#REF!"}}]
[{"$f":"入力!D6","v":0},1090,{"$f":"IF($B14<>\"\",VLOOKUP($B14,[1]koshu!$A$2:$B$35,2,FALSE),\"\")","v":"管"},null,{"$f":"IF(#REF!=\"特定\",1,IF(#REF!=\"一般\",0,\"\"))","v":{"$error":"#REF!"}},{"$f":"#REF!","v":{"$error":"#REF!"}},{"$f":"#REF!","v":{"$error":"#REF!"}},{"$f":"#REF!","v":{"$error":"#REF!"}},{"$f":"#REF!","v":{"$error":"#REF!"}},{"$f":"IF(#REF!=\"－\",\"\",#REF!)","v":{"$error":"#REF!"}},{"$f":"IF(入力!#REF!=\"〇\",1,0)","v":{"$error":"#REF!"}}]
[{"$f":"入力!D6","v":0},1100,{"$f":"IF($B15<>\"\",VLOOKUP($B15,[1]koshu!$A$2:$B$35,2,FALSE),\"\")","v":"タイル・れんが・ブロック"},null,{"$f":"IF(#REF!=\"特定\",1,IF(#REF!=\"一般\",0,\"\"))","v":{"$error":"#REF!"}},{"$f":"#REF!","v":{"$error":"#REF!"}},{"$f":"#REF!","v":{"$error":"#REF!"}},{"$f":"#REF!","v":{"$error":"#REF!"}},{"$f":"#REF!","v":{"$error":"#REF!"}}]
[{"$f":"入力!D6","v":0},1110,{"$f":"IF($B16<>\"\",VLOOKUP($B16,[1]koshu!$A$2:$B$35,2,FALSE),\"\")","v":"鋼構造物"},null,{"$f":"IF(#REF!=\"特定\",1,IF(#REF!=\"一般\",0,\"\"))","v":{"$error":"#REF!"}},{"$f":"#REF!","v":{"$error":"#REF!"}},{"$f":"#REF!","v":{"$error":"#REF!"}},{"$f":"#REF!","v":{"$error":"#REF!"}},{"$f":"#REF!","v":{"$error":"#REF!"}}]
[{"$f":"入力!D6","v":0},1111,{"$f":"IF($B17<>\"\",VLOOKUP($B17,[1]koshu!$A$2:$B$35,2,FALSE),\"\")","v":"鋼橋上部"},null,{"$f":"IF(#REF!=\"特定\",1,IF(#REF!=\"一般\",0,\"\"))","v":{"$error":"#REF!"}},{"$f":"#REF!","v":{"$error":"#REF!"}},{"$f":"#REF!","v":{"$error":"#REF!"}},{"$f":"#REF!","v":{"$error":"#REF!"}},{"$f":"#REF!","v":{"$error":"#REF!"}}]
[{"$f":"入力!D6","v":0},1120,{"$f":"IF($B18<>\"\",VLOOKUP($B18,[1]koshu!$A$2:$B$35,2,FALSE),\"\")","v":"鉄筋"},null,{"$f":"IF(#REF!=\"特定\",1,IF(#REF!=\"一般\",0,\"\"))","v":{"$error":"#REF!"}},{"$f":"#REF!","v":{"$error":"#REF!"}},{"$f":"#REF!","v":{"$error":"#REF!"}},{"$f":"#REF!","v":{"$error":"#REF!"}},{"$f":"#REF!","v":{"$error":"#REF!"}}]
[{"$f":"入力!D6","v":0},1130,{"$f":"IF($B19<>\"\",VLOOKUP($B19,[1]koshu!$A$2:$B$35,2,FALSE),\"\")","v":"舗装"},null,{"$f":"IF(#REF!=\"特定\",1,IF(#REF!=\"一般\",0,\"\"))","v":{"$error":"#REF!"}},{"$f":"#REF!","v":{"$error":"#REF!"}},{"$f":"#REF!","v":{"$error":"#REF!"}},{"$f":"#REF!","v":{"$error":"#REF!"}},{"$f":"#REF!","v":{"$error":"#REF!"}},{"$f":"IF(#REF!=\"－\",\"\",#REF!)","v":{"$error":"#REF!"}}]
[{"$f":"入力!D6","v":0},1140,{"$f":"IF($B20<>\"\",VLOOKUP($B20,[1]koshu!$A$2:$B$35,2,FALSE),\"\")","v":"しゅんせつ"},null,{"$f":"IF(#REF!=\"特定\",1,IF(#REF!=\"一般\",0,\"\"))","v":{"$error":"#REF!"}},{"$f":"#REF!","v":{"$error":"#REF!"}},{"$f":"#REF!","v":{"$error":"#REF!"}},{"$f":"#REF!","v":{"$error":"#REF!"}},{"$f":"#REF!","v":{"$error":"#REF!"}}]
[{"$f":"入力!D6","v":0},1150,{"$f":"IF($B21<>\"\",VLOOKUP($B21,[1]koshu!$A$2:$B$35,2,FALSE),\"\")","v":"板金"},null,{"$f":"IF(#REF!=\"特定\",1,IF(#REF!=\"一般\",0,\"\"))","v":{"$error":"#REF!"}},{"$f":"#REF!","v":{"$error":"#REF!"}},{"$f":"#REF!","v":{"$error":"#REF!"}},{"$f":"#REF!","v":{"$error":"#REF!"}},{"$f":"#REF!","v":{"$error":"#REF!"}}]
[{"$f":"入力!D6","v":0},1160,{"$f":"IF($B22<>\"\",VLOOKUP($B22,[1]koshu!$A$2:$B$35,2,FALSE),\"\")","v":"ガラス"},null,{"$f":"IF(#REF!=\"特定\",1,IF(#REF!=\"一般\",0,\"\"))","v":{"$error":"#REF!"}},{"$f":"#REF!","v":{"$error":"#REF!"}},{"$f":"#REF!","v":{"$error":"#REF!"}},{"$f":"#REF!","v":{"$error":"#REF!"}},{"$f":"#REF!","v":{"$error":"#REF!"}}]
[{"$f":"入力!D6","v":0},1170,{"$f":"IF($B23<>\"\",VLOOKUP($B23,[1]koshu!$A$2:$B$35,2,FALSE),\"\")","v":"塗装"},null,{"$f":"IF(#REF!=\"特定\",1,IF(#REF!=\"一般\",0,\"\"))","v":{"$error":"#REF!"}},{"$f":"#REF!","v":{"$error":"#REF!"}},{"$f":"#REF!","v":{"$error":"#REF!"}},{"$f":"#REF!","v":{"$error":"#REF!"}},{"$f":"#REF!","v":{"$error":"#REF!"}}]
[{"$f":"入力!D6","v":0},1180,{"$f":"IF($B24<>\"\",VLOOKUP($B24,[1]koshu!$A$2:$B$35,2,FALSE),\"\")","v":"防水"},null,{"$f":"IF(#REF!=\"特定\",1,IF(#REF!=\"一般\",0,\"\"))","v":{"$error":"#REF!"}},{"$f":"#REF!","v":{"$error":"#REF!"}},{"$f":"#REF!","v":{"$error":"#REF!"}},{"$f":"#REF!","v":{"$error":"#REF!"}},{"$f":"#REF!","v":{"$error":"#REF!"}}]
[{"$f":"入力!D6","v":0},1190,{"$f":"IF($B25<>\"\",VLOOKUP($B25,[1]koshu!$A$2:$B$35,2,FALSE),\"\")","v":"内装仕上"},null,{"$f":"IF(#REF!=\"特定\",1,IF(#REF!=\"一般\",0,\"\"))","v":{"$error":"#REF!"}},{"$f":"#REF!","v":{"$error":"#REF!"}},{"$f":"#REF!","v":{"$error":"#REF!"}},{"$f":"#REF!","v":{"$error":"#REF!"}},{"$f":"#REF!","v":{"$error":"#REF!"}}]
[{"$f":"入力!D6","v":0},1200,{"$f":"IF($B26<>\"\",VLOOKUP($B26,[1]koshu!$A$2:$B$35,2,FALSE),\"\")","v":"機械器具設置"},null,{"$f":"IF(#REF!=\"特定\",1,IF(#REF!=\"一般\",0,\"\"))","v":{"$error":"#REF!"}},{"$f":"#REF!","v":{"$error":"#REF!"}},{"$f":"#REF!","v":{"$error":"#REF!"}},{"$f":"#REF!","v":{"$error":"#REF!"}},{"$f":"#REF!","v":{"$error":"#REF!"}}]
[{"$f":"入力!D6","v":0},1210,{"$f":"IF($B27<>\"\",VLOOKUP($B27,[1]koshu!$A$2:$B$35,2,FALSE),\"\")","v":"熱絶縁"},null,{"$f":"IF(#REF!=\"特定\",1,IF(#REF!=\"一般\",0,\"\"))","v":{"$error":"#REF!"}},{"$f":"#REF!","v":{"$error":"#REF!"}},{"$f":"#REF!","v":{"$error":"#REF!"}},{"$f":"#REF!","v":{"$error":"#REF!"}},{"$f":"#REF!","v":{"$error":"#REF!"}}]
[{"$f":"入力!D6","v":0},1220,{"$f":"IF($B28<>\"\",VLOOKUP($B28,[1]koshu!$A$2:$B$35,2,FALSE),\"\")","v":"電気通信"},null,{"$f":"IF(#REF!=\"特定\",1,IF(#REF!=\"一般\",0,\"\"))","v":{"$error":"#REF!"}},{"$f":"#REF!","v":{"$error":"#REF!"}},{"$f":"#REF!","v":{"$error":"#REF!"}},{"$f":"#REF!","v":{"$error":"#REF!"}},{"$f":"#REF!","v":{"$error":"#REF!"}}]
[{"$f":"入力!D6","v":0},1230,{"$f":"IF($B29<>\"\",VLOOKUP($B29,[1]koshu!$A$2:$B$35,2,FALSE),\"\")","v":"造園"},null,{"$f":"IF(#REF!=\"特定\",1,IF(#REF!=\"一般\",0,\"\"))","v":{"$error":"#REF!"}},{"$f":"#REF!","v":{"$error":"#REF!"}},{"$f":"#REF!","v":{"$error":"#REF!"}},{"$f":"#REF!","v":{"$error":"#REF!"}},{"$f":"#REF!","v":{"$error":"#REF!"}}]
[{"$f":"入力!D6","v":0},1240,{"$f":"IF($B30<>\"\",VLOOKUP($B30,[1]koshu!$A$2:$B$35,2,FALSE),\"\")","v":"さく井"},null,{"$f":"IF(#REF!=\"特定\",1,IF(#REF!=\"一般\",0,\"\"))","v":{"$error":"#REF!"}},{"$f":"#REF!","v":{"$error":"#REF!"}},{"$f":"#REF!","v":{"$error":"#REF!"}},{"$f":"#REF!","v":{"$error":"#REF!"}},{"$f":"#REF!","v":{"$error":"#REF!"}}]
[{"$f":"入力!D6","v":0},1250,{"$f":"IF($B31<>\"\",VLOOKUP($B31,[1]koshu!$A$2:$B$35,2,FALSE),\"\")","v":"建具"},null,{"$f":"IF(#REF!=\"特定\",1,IF(#REF!=\"一般\",0,\"\"))","v":{"$error":"#REF!"}},{"$f":"#REF!","v":{"$error":"#REF!"}},{"$f":"#REF!","v":{"$error":"#REF!"}},{"$f":"#REF!","v":{"$error":"#REF!"}},{"$f":"#REF!","v":{"$error":"#REF!"}}]
[{"$f":"入力!D6","v":0},1260,{"$f":"IF($B32<>\"\",VLOOKUP($B32,[1]koshu!$A$2:$B$35,2,FALSE),\"\")","v":"水道施設"},null,{"$f":"IF(#REF!=\"特定\",1,IF(#REF!=\"一般\",0,\"\"))","v":{"$error":"#REF!"}},{"$f":"#REF!","v":{"$error":"#REF!"}},{"$f":"#REF!","v":{"$error":"#REF!"}},{"$f":"#REF!","v":{"$error":"#REF!"}},{"$f":"#REF!","v":{"$error":"#REF!"}}]
[{"$f":"入力!D6","v":0},1261,{"$f":"IF($B33<>\"\",VLOOKUP($B33,[1]koshu!$A$2:$B$35,2,FALSE),\"\")","v":"水道管"},null,{"$f":"IF(#REF!=\"特定\",1,IF(#REF!=\"一般\",0,\"\"))","v":{"$error":"#REF!"}},{"$f":"#REF!","v":{"$error":"#REF!"}},{"$f":"#REF!","v":{"$error":"#REF!"}},{"$f":"#REF!","v":{"$error":"#REF!"}},{"$f":"#REF!","v":{"$error":"#REF!"}},{"$f":"IF(#REF!=\"－\",\"\",#REF!)","v":{"$error":"#REF!"}},{"$f":"IF(入力!#REF!=\"〇\",1,0)","v":{"$error":"#REF!"}}]
[{"$f":"入力!D6","v":0},1270,{"$f":"IF($B34<>\"\",VLOOKUP($B34,[1]koshu!$A$2:$B$35,2,FALSE),\"\")","v":"消防施設"},null,{"$f":"IF(#REF!=\"特定\",1,IF(#REF!=\"一般\",0,\"\"))","v":{"$error":"#REF!"}},{"$f":"#REF!","v":{"$error":"#REF!"}},{"$f":"#REF!","v":{"$error":"#REF!"}},{"$f":"#REF!","v":{"$error":"#REF!"}},{"$f":"#REF!","v":{"$error":"#REF!"}}]
[{"$f":"入力!D6","v":0},1280,{"$f":"IF($B35<>\"\",VLOOKUP($B35,[1]koshu!$A$2:$B$35,2,FALSE),\"\")","v":"清掃施設"},null,{"$f":"IF(#REF!=\"特定\",1,IF(#REF!=\"一般\",0,\"\"))","v":{"$error":"#REF!"}},{"$f":"#REF!","v":{"$error":"#REF!"}},{"$f":"#REF!","v":{"$error":"#REF!"}},{"$f":"#REF!","v":{"$error":"#REF!"}},{"$f":"#REF!","v":{"$error":"#REF!"}}]
[{"$f":"入力!D6","v":0},1290,{"$f":"IF($B36<>\"\",VLOOKUP($B36,[1]koshu!$A$2:$B$35,2,FALSE),\"\")","v":"解体"},null,{"$f":"IF(#REF!=\"特定\",1,IF(#REF!=\"一般\",0,\"\"))","v":{"$error":"#REF!"}},{"$f":"#REF!","v":{"$error":"#REF!"}},{"$f":"#REF!","v":{"$error":"#REF!"}},{"$f":"#REF!","v":{"$error":"#REF!"}},{"$f":"#REF!","v":{"$error":"#REF!"}}]

{"sheet":"長岡市処理用2","index":15,"n_rows":3,"n_cols":5,"rows_kept":3,"cut":false,"hidden":true,"merged":[]}
["JUCHUSHA_NO\n(受注者番号)","KAKUTEI_DATE\n(確定日)","Y_HYOTEN\n(Y評点)","申請日","決算日、審査基準日"]
["000000","2111-11-11",1000,"2111-11-11","2111-11-11"]
[{"$f":"入力!D6","v":0},null,{"$f":"入力!#REF!","v":{"$error":"#REF!"}},null,{"$f":"入力!#REF!","v":{"$error":"#REF!"}}]